BEGIN:VCALENDAR
VERSION:2.0
PRODID:-//The Carpenter&#039;s House Christian Worship Center | prophetic - ECPv6.15.20//NONSGML v1.0//EN
CALSCALE:GREGORIAN
METHOD:PUBLISH
X-WR-CALNAME:The Carpenter&#039;s House Christian Worship Center | prophetic
X-ORIGINAL-URL:https://thechowchurch.org
X-WR-CALDESC:Events for The Carpenter&#039;s House Christian Worship Center | prophetic
REFRESH-INTERVAL;VALUE=DURATION:PT1H
X-Robots-Tag:noindex
X-PUBLISHED-TTL:PT1H
BEGIN:VTIMEZONE
TZID:America/New_York
BEGIN:DAYLIGHT
TZOFFSETFROM:-0500
TZOFFSETTO:-0400
TZNAME:EDT
DTSTART:20240310T070000
END:DAYLIGHT
BEGIN:STANDARD
TZOFFSETFROM:-0400
TZOFFSETTO:-0500
TZNAME:EST
DTSTART:20241103T060000
END:STANDARD
BEGIN:DAYLIGHT
TZOFFSETFROM:-0500
TZOFFSETTO:-0400
TZNAME:EDT
DTSTART:20250309T070000
END:DAYLIGHT
BEGIN:STANDARD
TZOFFSETFROM:-0400
TZOFFSETTO:-0500
TZNAME:EST
DTSTART:20251102T060000
END:STANDARD
BEGIN:DAYLIGHT
TZOFFSETFROM:-0500
TZOFFSETTO:-0400
TZNAME:EDT
DTSTART:20260308T070000
END:DAYLIGHT
BEGIN:STANDARD
TZOFFSETFROM:-0400
TZOFFSETTO:-0500
TZNAME:EST
DTSTART:20261101T060000
END:STANDARD
END:VTIMEZONE
BEGIN:VEVENT
DTSTART;VALUE=DATE:20250130
DTEND;VALUE=DATE:20250203
DTSTAMP:20260425T200200
CREATED:20250226T113622Z
LAST-MODIFIED:20250415T165417Z
UID:724-1738195200-1738540799@thechowchurch.org
SUMMARY:AKGC Conference\, “Launch into the Deep”
DESCRIPTION:Join us for a transformative experience at our annual conference\, “Advancing the Kingdom of God\,” where we’ll be “Launching into the Deep.” Prepare to be inspired and empowered as we delve into the depths of faith\, purpose\, and divine potential. This year\, we are honored to host powerhouse guest speakers\, Generals in the Kingdom of God\, including the esteemed Dr. Bill Winston\, the dynamic Bishop Donald Clay\, and the influential Pastor Samuel Rodriguez. Their profound wisdom and anointed leadership will ignite a fire within you\, equipping you to navigate uncharted waters and boldly advance the Kingdom of God in your life and community. Prepare to be challenged\, uplifted\, and propelled into a new dimension of spiritual growth.
URL:https://thechowchurch.org/event/akgc-conference-launch-into-the-deep/
ATTACH;FMTTYPE=image/jpeg:https://thechowchurch.org/wp-content/uploads/2025/04/487384275_1105718064918266_1024925567397150717_n.jpg
ORGANIZER;CN="The Carpenter's House Christian Worship Center":MAILTO:admin@thechowchurch.org
END:VEVENT
END:VCALENDAR