BEGIN:VCALENDAR
VERSION:2.0
PRODID:-//The Carpenter&#039;s House Christian Worship Center | prophetic - ECPv6.15.20//NONSGML v1.0//EN
CALSCALE:GREGORIAN
METHOD:PUBLISH
X-WR-CALNAME:The Carpenter&#039;s House Christian Worship Center | prophetic
X-ORIGINAL-URL:https://thechowchurch.org
X-WR-CALDESC:Events for The Carpenter&#039;s House Christian Worship Center | prophetic
REFRESH-INTERVAL;VALUE=DURATION:PT1H
X-Robots-Tag:noindex
X-PUBLISHED-TTL:PT1H
BEGIN:VTIMEZONE
TZID:America/New_York
BEGIN:DAYLIGHT
TZOFFSETFROM:-0500
TZOFFSETTO:-0400
TZNAME:EDT
DTSTART:20240310T070000
END:DAYLIGHT
BEGIN:STANDARD
TZOFFSETFROM:-0400
TZOFFSETTO:-0500
TZNAME:EST
DTSTART:20241103T060000
END:STANDARD
BEGIN:DAYLIGHT
TZOFFSETFROM:-0500
TZOFFSETTO:-0400
TZNAME:EDT
DTSTART:20250309T070000
END:DAYLIGHT
BEGIN:STANDARD
TZOFFSETFROM:-0400
TZOFFSETTO:-0500
TZNAME:EST
DTSTART:20251102T060000
END:STANDARD
BEGIN:DAYLIGHT
TZOFFSETFROM:-0500
TZOFFSETTO:-0400
TZNAME:EDT
DTSTART:20260308T070000
END:DAYLIGHT
BEGIN:STANDARD
TZOFFSETFROM:-0400
TZOFFSETTO:-0500
TZNAME:EST
DTSTART:20261101T060000
END:STANDARD
END:VTIMEZONE
BEGIN:VEVENT
DTSTART;VALUE=DATE:20250626
DTEND;VALUE=DATE:20250630
DTSTAMP:20260425T213423
CREATED:20250226T114214Z
LAST-MODIFIED:20250507T010738Z
UID:734-1750896000-1751241599@thechowchurch.org
SUMMARY:Kingdom Marketplace Influencers Women’s Conference\, “Take Your Stand”
DESCRIPTION:
URL:https://thechowchurch.org/event/kingdom-marketplace-influencers-womens-conference-take-your-stand/
ATTACH;FMTTYPE=image/jpeg:https://thechowchurch.org/wp-content/uploads/2025/02/multiracial-business-women-2025-03-10-14-11-03-utc-scaled.jpg
ORGANIZER;CN="The Carpenter's House Christian Worship Center":MAILTO:admin@thechowchurch.org
END:VEVENT
END:VCALENDAR