BEGIN:VCALENDAR
VERSION:2.0
PRODID:-//The Carpenter&#039;s House Christian Worship Center | prophetic - ECPv6.15.20//NONSGML v1.0//EN
CALSCALE:GREGORIAN
METHOD:PUBLISH
X-WR-CALNAME:The Carpenter&#039;s House Christian Worship Center | prophetic
X-ORIGINAL-URL:https://thechowchurch.org
X-WR-CALDESC:Events for The Carpenter&#039;s House Christian Worship Center | prophetic
REFRESH-INTERVAL;VALUE=DURATION:PT1H
X-Robots-Tag:noindex
X-PUBLISHED-TTL:PT1H
BEGIN:VTIMEZONE
TZID:America/New_York
BEGIN:DAYLIGHT
TZOFFSETFROM:-0500
TZOFFSETTO:-0400
TZNAME:EDT
DTSTART:20240310T070000
END:DAYLIGHT
BEGIN:STANDARD
TZOFFSETFROM:-0400
TZOFFSETTO:-0500
TZNAME:EST
DTSTART:20241103T060000
END:STANDARD
BEGIN:DAYLIGHT
TZOFFSETFROM:-0500
TZOFFSETTO:-0400
TZNAME:EDT
DTSTART:20250309T070000
END:DAYLIGHT
BEGIN:STANDARD
TZOFFSETFROM:-0400
TZOFFSETTO:-0500
TZNAME:EST
DTSTART:20251102T060000
END:STANDARD
BEGIN:DAYLIGHT
TZOFFSETFROM:-0500
TZOFFSETTO:-0400
TZNAME:EDT
DTSTART:20260308T070000
END:DAYLIGHT
BEGIN:STANDARD
TZOFFSETFROM:-0400
TZOFFSETTO:-0500
TZNAME:EST
DTSTART:20261101T060000
END:STANDARD
END:VTIMEZONE
BEGIN:VEVENT
DTSTART;VALUE=DATE:20250425
DTEND;VALUE=DATE:20250428
DTSTAMP:20260425T213251
CREATED:20250226T113953Z
LAST-MODIFIED:20250415T165347Z
UID:729-1745539200-1745798399@thechowchurch.org
SUMMARY:LoveFest Conference Weekend
DESCRIPTION:LoveFest\, our annual Agape Conference\, is a joyful weekend dedicated to celebrating the profound love that underpins our faith. Held during the month commemorating Christ’s resurrection – a powerful act of love for His Bride\, the Church – LoveFest offers a space for connection\, learning\, and spiritual renewal. The festivities kick off Friday evening with a delightful dinner accompanied by lighthearted comedy entertainment. Saturday is dedicated to practical application\, featuring workshops tailored to address the diverse relationships in our lives. The weekend culminates on Sunday with an inspiring message from our esteemed guest speaker\, Pastor David Banks from Cleveland\, Ohio\, promising to leave you feeling uplifted and empowered.
URL:https://thechowchurch.org/event/lovefest-conference-weekend/
ATTACH;FMTTYPE=image/jpeg:https://thechowchurch.org/wp-content/uploads/2025/04/484948284_1098492045640868_5577655934786000234_n.jpg
ORGANIZER;CN="The Carpenter's House Christian Worship Center":MAILTO:admin@thechowchurch.org
END:VEVENT
END:VCALENDAR