BEGIN:VCALENDAR
VERSION:2.0
PRODID:-//The Carpenter&#039;s House Christian Worship Center | prophetic - ECPv6.15.20//NONSGML v1.0//EN
CALSCALE:GREGORIAN
METHOD:PUBLISH
X-WR-CALNAME:The Carpenter&#039;s House Christian Worship Center | prophetic
X-ORIGINAL-URL:https://thechowchurch.org
X-WR-CALDESC:Events for The Carpenter&#039;s House Christian Worship Center | prophetic
REFRESH-INTERVAL;VALUE=DURATION:PT1H
X-Robots-Tag:noindex
X-PUBLISHED-TTL:PT1H
BEGIN:VTIMEZONE
TZID:America/New_York
BEGIN:DAYLIGHT
TZOFFSETFROM:-0500
TZOFFSETTO:-0400
TZNAME:EDT
DTSTART:20240310T070000
END:DAYLIGHT
BEGIN:STANDARD
TZOFFSETFROM:-0400
TZOFFSETTO:-0500
TZNAME:EST
DTSTART:20241103T060000
END:STANDARD
BEGIN:DAYLIGHT
TZOFFSETFROM:-0500
TZOFFSETTO:-0400
TZNAME:EDT
DTSTART:20250309T070000
END:DAYLIGHT
BEGIN:STANDARD
TZOFFSETFROM:-0400
TZOFFSETTO:-0500
TZNAME:EST
DTSTART:20251102T060000
END:STANDARD
BEGIN:DAYLIGHT
TZOFFSETFROM:-0500
TZOFFSETTO:-0400
TZNAME:EDT
DTSTART:20260308T070000
END:DAYLIGHT
BEGIN:STANDARD
TZOFFSETFROM:-0400
TZOFFSETTO:-0500
TZNAME:EST
DTSTART:20261101T060000
END:STANDARD
END:VTIMEZONE
BEGIN:VEVENT
DTSTART;VALUE=DATE:20251212
DTEND;VALUE=DATE:20251213
DTSTAMP:20260425T182955
CREATED:20250226T114726Z
LAST-MODIFIED:20250509T215918Z
UID:750-1765497600-1765583999@thechowchurch.org
SUMMARY:The Carpenter’s House Family Holiday Dinner
DESCRIPTION:
URL:https://thechowchurch.org/event/the-carpenters-house-family-holiday-dinner/
ATTACH;FMTTYPE=image/jpeg:https://thechowchurch.org/wp-content/uploads/2025/02/close-up-of-african-food-during-a-buffet-at-a-part-2025-03-08-21-16-13-utc-scaled.jpg
ORGANIZER;CN="The Carpenter's House Christian Worship Center":MAILTO:admin@thechowchurch.org
END:VEVENT
END:VCALENDAR