BEGIN:VCALENDAR
VERSION:2.0
PRODID:-//The Carpenter&#039;s House Christian Worship Center | prophetic - ECPv6.15.20//NONSGML v1.0//EN
CALSCALE:GREGORIAN
METHOD:PUBLISH
X-WR-CALNAME:The Carpenter&#039;s House Christian Worship Center | prophetic
X-ORIGINAL-URL:https://thechowchurch.org
X-WR-CALDESC:Events for The Carpenter&#039;s House Christian Worship Center | prophetic
REFRESH-INTERVAL;VALUE=DURATION:PT1H
X-Robots-Tag:noindex
X-PUBLISHED-TTL:PT1H
BEGIN:VTIMEZONE
TZID:America/New_York
BEGIN:DAYLIGHT
TZOFFSETFROM:-0500
TZOFFSETTO:-0400
TZNAME:EDT
DTSTART:20250309T070000
END:DAYLIGHT
BEGIN:STANDARD
TZOFFSETFROM:-0400
TZOFFSETTO:-0500
TZNAME:EST
DTSTART:20251102T060000
END:STANDARD
BEGIN:DAYLIGHT
TZOFFSETFROM:-0500
TZOFFSETTO:-0400
TZNAME:EDT
DTSTART:20260308T070000
END:DAYLIGHT
BEGIN:STANDARD
TZOFFSETFROM:-0400
TZOFFSETTO:-0500
TZNAME:EST
DTSTART:20261101T060000
END:STANDARD
BEGIN:DAYLIGHT
TZOFFSETFROM:-0500
TZOFFSETTO:-0400
TZNAME:EDT
DTSTART:20270314T070000
END:DAYLIGHT
BEGIN:STANDARD
TZOFFSETFROM:-0400
TZOFFSETTO:-0500
TZNAME:EST
DTSTART:20271107T060000
END:STANDARD
END:VTIMEZONE
BEGIN:VEVENT
DTSTART;TZID=America/New_York:20260529T080000
DTEND;TZID=America/New_York:20260530T170000
DTSTAMP:20260425T231515
CREATED:20260218T181855Z
LAST-MODIFIED:20260218T181855Z
UID:2413-1780041600-1780160400@thechowchurch.org
SUMMARY:She Means Kingdom Business
DESCRIPTION:
URL:https://thechowchurch.org/event/she-means-kingdom-business/
END:VEVENT
BEGIN:VEVENT
DTSTART;TZID=America/New_York:20260626T080000
DTEND;TZID=America/New_York:20260628T170000
DTSTAMP:20260425T231515
CREATED:20260218T181934Z
LAST-MODIFIED:20260218T181934Z
UID:2415-1782460800-1782666000@thechowchurch.org
SUMMARY:Prayer/Prophetic Encounter
DESCRIPTION:
URL:https://thechowchurch.org/event/prayer-prophetic-encounter/
END:VEVENT
BEGIN:VEVENT
DTSTART;TZID=America/New_York:20260724T080000
DTEND;TZID=America/New_York:20260726T170000
DTSTAMP:20260425T231515
CREATED:20260218T182004Z
LAST-MODIFIED:20260218T182004Z
UID:2417-1784880000-1785085200@thechowchurch.org
SUMMARY:The Next Gen Conference
DESCRIPTION:
URL:https://thechowchurch.org/event/the-next-gen-conference/
END:VEVENT
BEGIN:VEVENT
DTSTART;TZID=America/New_York:20260925T080000
DTEND;TZID=America/New_York:20260927T170000
DTSTAMP:20260425T231515
CREATED:20260218T182040Z
LAST-MODIFIED:20260218T182040Z
UID:2419-1790323200-1790528400@thechowchurch.org
SUMMARY:Men's Legacy Builders Conference
DESCRIPTION:
URL:https://thechowchurch.org/event/mens-legacy-builders-conference/
END:VEVENT
BEGIN:VEVENT
DTSTART;TZID=America/New_York:20261029T080000
DTEND;TZID=America/New_York:20261101T170000
DTSTAMP:20260425T231515
CREATED:20260218T182121Z
LAST-MODIFIED:20260218T182121Z
UID:2421-1793260800-1793552400@thechowchurch.org
SUMMARY:Emerge Conference
DESCRIPTION:
URL:https://thechowchurch.org/event/emerge-conference/
END:VEVENT
END:VCALENDAR